BEGIN:VCALENDAR
VERSION:2.0
PRODID:-//Gateway Qualifications - ECPv6.2.2//NONSGML v1.0//EN
CALSCALE:GREGORIAN
METHOD:PUBLISH
X-ORIGINAL-URL:https://www.gatewayqualifications.org.uk
X-WR-CALDESC:Events for Gateway Qualifications
REFRESH-INTERVAL;VALUE=DURATION:PT1H
X-Robots-Tag:noindex
X-PUBLISHED-TTL:PT1H
BEGIN:VTIMEZONE
TZID:Europe/London
BEGIN:DAYLIGHT
TZOFFSETFROM:+0000
TZOFFSETTO:+0100
TZNAME:BST
DTSTART:20250330T010000
END:DAYLIGHT
BEGIN:STANDARD
TZOFFSETFROM:+0100
TZOFFSETTO:+0000
TZNAME:GMT
DTSTART:20251026T010000
END:STANDARD
END:VTIMEZONE
BEGIN:VEVENT
DTSTART;TZID=Europe/London:20251007T113000
DTEND;TZID=Europe/London:20251007T123000
DTSTAMP:20260423T132923
CREATED:20250908T110603Z
LAST-MODIFIED:20251007T131606Z
UID:40482-1759836600-1759840200@www.gatewayqualifications.org.uk
SUMMARY:Starting the year well: preparing for admin excellence
DESCRIPTION:In this session\, we’ll cover everything from making unit selections and checking rules of combination to introducing new learner management functions. Our Customer Excellence Team will guide you through utilising useful reports and signposting to valuable resources\, all while providing valuable hints and tips. \nThis in-depth session will empower admin staff to start the year with confidence. You’ll learn how to complete registrations\, check the rules of combination\, and make the most of My Quartz’s new features. Don’t miss this opportunity to enhance your administrative skills and fully utilise MyQuartz capabilities. \nCatch up with the full session here! \nYou can also download the following supporting handouts: \nPowerPoint Presentation Slide deck \nUseful hints and links
URL:https://www.gatewayqualifications.org.uk/event/starting-the-year-well-preparing-for-admin-excellence/
LOCATION:Online
CATEGORIES:Webinar
ATTACH;FMTTYPE=image/png:https://www.gatewayqualifications.org.uk/wp-content/uploads/2025/10/STYW-preparing-for-admin-excellence-ondemand.png
END:VEVENT
BEGIN:VEVENT
DTSTART;TZID=Europe/London:20251007T160000
DTEND;TZID=Europe/London:20251007T170000
DTSTAMP:20260423T132923
CREATED:20250828T143436Z
LAST-MODIFIED:20251013T154707Z
UID:40443-1759852800-1759856400@www.gatewayqualifications.org.uk
SUMMARY:Ask the Subject Experts: Digital Qualifications
DESCRIPTION:Are you delivering our Digital qualifications? \nWatch back to this informative session\, as the Principal EQA for Vocational Studies answers your questions about assessment\, delivery\,  IQA\, and invigilation. \nIn this session\, you will:\n✅ Gain expert guidance on assessment and delivery\,\n✅ Understand standards and expectations\,\n✅ Explore support with internal quality assurance (IQA) processes. \nCatch up with the Q&A here! \nDownload the supporting PowerPoint slide deck here
URL:https://www.gatewayqualifications.org.uk/event/ask-the-subject-experts-digital-qualifications/
LOCATION:Online
CATEGORIES:Webinar
ATTACH;FMTTYPE=image/png:https://www.gatewayqualifications.org.uk/wp-content/uploads/2025/08/ASE-Digital-ondemand.png
END:VEVENT
END:VCALENDAR