BEGIN:VCALENDAR
VERSION:2.0
PRODID:-//Gateway Qualifications - ECPv6.2.2//NONSGML v1.0//EN
CALSCALE:GREGORIAN
METHOD:PUBLISH
X-ORIGINAL-URL:https://www.gatewayqualifications.org.uk
X-WR-CALDESC:Events for Gateway Qualifications
REFRESH-INTERVAL;VALUE=DURATION:PT1H
X-Robots-Tag:noindex
X-PUBLISHED-TTL:PT1H
BEGIN:VTIMEZONE
TZID:Europe/London
BEGIN:DAYLIGHT
TZOFFSETFROM:+0000
TZOFFSETTO:+0100
TZNAME:BST
DTSTART:20260329T010000
END:DAYLIGHT
BEGIN:STANDARD
TZOFFSETFROM:+0100
TZOFFSETTO:+0000
TZNAME:GMT
DTSTART:20261025T010000
END:STANDARD
END:VTIMEZONE
BEGIN:VEVENT
DTSTART;TZID=Europe/London:20260414T100000
DTEND;TZID=Europe/London:20260414T110000
DTSTAMP:20260419T134355
CREATED:20260326T121639Z
LAST-MODIFIED:20260415T152623Z
UID:41205-1776160800-1776164400@www.gatewayqualifications.org.uk
SUMMARY:How to design and implement inclusive curriculum and assessment - Implementing Inclusion
DESCRIPTION:This webinar explores what inclusive curriculum and assessment design looks like in practice and why it is a critical priority for providers. The session begins with an AELP analysis of inspection trends\, sharing insights from member feedback and recent reports to help providers benchmark their own practice\, focusing on common strengths and common areas for development.\n\nWe then move to a provider perspective\, sharing real examples of inclusive practice\, inspection outcomes\, how organisations have strengthened their approach\, and the impact this has had.\n\nParticipants will gain practical\, evidence‑based tips on inclusive curriculum planning and assessment methods. These insights will highlight what works\, how to implement changes\, and how to embed inclusion meaningfully rather than superficially. By attending\, participants will leave with a clearer understanding of how to embed inclusive practice confidently and consistently.\n\nLearning Outcomes\nBy the end of the webinar\, attendees will: \n\nKnow how to apply inclusive curriculum strategies and assessment strategies.\nFeel more confident in embedding inclusive practices into your curriculum and assessments.\nBe aware of how flexible assessment approaches can support inclusive delivery.\nUnderstand what practical applications you can take away to use with your learners.\n\nCatch up on demand here! \nPlease note\, this is a third party event and Gateway Qualifications is not responsible for the bookings for this event. Please get in touch with AELP for any event enquiries. \n 
URL:https://www.gatewayqualifications.org.uk/event/how-to-design-and-implement-inclusive-curriculum-and-assessment-implementing-inclusion/
LOCATION:Online
CATEGORIES:Webinar
ATTACH;FMTTYPE=image/png:https://www.gatewayqualifications.org.uk/wp-content/uploads/2026/03/140426-Implementing-Inclusion.png
END:VEVENT
END:VCALENDAR