BEGIN:VCALENDAR
VERSION:2.0
PRODID:-//Gateway Qualifications - ECPv6.2.2//NONSGML v1.0//EN
CALSCALE:GREGORIAN
METHOD:PUBLISH
X-WR-CALNAME:Gateway Qualifications Events Calendar
X-ORIGINAL-URL:https://www.gatewayqualifications.org.uk
X-WR-CALDESC:Events for Gateway Qualifications
REFRESH-INTERVAL;VALUE=DURATION:PT1H
X-Robots-Tag:noindex
X-PUBLISHED-TTL:PT1H
BEGIN:VTIMEZONE
TZID:Europe/London
BEGIN:DAYLIGHT
TZOFFSETFROM:+0000
TZOFFSETTO:+0100
TZNAME:BST
DTSTART:20260329T010000
END:DAYLIGHT
BEGIN:STANDARD
TZOFFSETFROM:+0100
TZOFFSETTO:+0000
TZNAME:GMT
DTSTART:20261025T010000
END:STANDARD
END:VTIMEZONE
BEGIN:VEVENT
DTSTART;TZID=Europe/London:20260331T143000
DTEND;TZID=Europe/London:20260331T153000
DTSTAMP:20260423T200727
CREATED:20260313T144954Z
LAST-MODIFIED:20260313T145102Z
UID:41167-1774967400-1774971000@www.gatewayqualifications.org.uk
SUMMARY:Centre Compliance drop-in surgery
DESCRIPTION:Bring your centre compliance questions to our live drop-in surgery. \nThis informal Q&A session is your chance to speak directly with the Centre Compliance team. Whether you’re seeking clarification on requirements\, concerned about potential issues\, or looking for practical advice to prevent problems before they arise\, we’re here to help. \nIn this session\, you will: \n\nDiscover our supporting materials\nHave your compliance queries or questions addressed by the team\n\nYou can submit questions in advance to the team at Centre.Compliance@gatewayqualifications.org.uk or ask them on the day. \nIf you’re a registered Centre and haven’t received a registration email\, please contact the Centre Compliance team at Centre.Compliance@gatewayqualifications.org.uk  for the registration link.
URL:https://www.gatewayqualifications.org.uk/event/centre-compliance-drop-in-surgery-mar-26/
LOCATION:Online
CATEGORIES:Webinar
ATTACH;FMTTYPE=image/png:https://www.gatewayqualifications.org.uk/wp-content/uploads/2026/03/Centre-Compliance-drop-in-surgery-live-Mar.png
END:VEVENT
BEGIN:VEVENT
DTSTART;TZID=Europe/London:20260414T100000
DTEND;TZID=Europe/London:20260414T110000
DTSTAMP:20260423T200727
CREATED:20260326T121639Z
LAST-MODIFIED:20260415T152623Z
UID:41205-1776160800-1776164400@www.gatewayqualifications.org.uk
SUMMARY:How to design and implement inclusive curriculum and assessment - Implementing Inclusion
DESCRIPTION:This webinar explores what inclusive curriculum and assessment design looks like in practice and why it is a critical priority for providers. The session begins with an AELP analysis of inspection trends\, sharing insights from member feedback and recent reports to help providers benchmark their own practice\, focusing on common strengths and common areas for development.\n\nWe then move to a provider perspective\, sharing real examples of inclusive practice\, inspection outcomes\, how organisations have strengthened their approach\, and the impact this has had.\n\nParticipants will gain practical\, evidence‑based tips on inclusive curriculum planning and assessment methods. These insights will highlight what works\, how to implement changes\, and how to embed inclusion meaningfully rather than superficially. By attending\, participants will leave with a clearer understanding of how to embed inclusive practice confidently and consistently.\n\nLearning Outcomes\nBy the end of the webinar\, attendees will: \n\nKnow how to apply inclusive curriculum strategies and assessment strategies.\nFeel more confident in embedding inclusive practices into your curriculum and assessments.\nBe aware of how flexible assessment approaches can support inclusive delivery.\nUnderstand what practical applications you can take away to use with your learners.\n\nCatch up on demand here! \nPlease note\, this is a third party event and Gateway Qualifications is not responsible for the bookings for this event. Please get in touch with AELP for any event enquiries. \n 
URL:https://www.gatewayqualifications.org.uk/event/how-to-design-and-implement-inclusive-curriculum-and-assessment-implementing-inclusion/
LOCATION:Online
CATEGORIES:Webinar
ATTACH;FMTTYPE=image/png:https://www.gatewayqualifications.org.uk/wp-content/uploads/2026/03/140426-Implementing-Inclusion.png
END:VEVENT
BEGIN:VEVENT
DTSTART;TZID=Europe/London:20260421T110000
DTEND;TZID=Europe/London:20260421T120000
DTSTAMP:20260423T200727
CREATED:20260227T114513Z
LAST-MODIFIED:20260422T135627Z
UID:41104-1776769200-1776772800@www.gatewayqualifications.org.uk
SUMMARY:Preparing Centres for EQA sampling
DESCRIPTION:Are you prepared for EQA sampling activity? \nJoin our upcoming webinar with the Quality Team and a Lead EQA as they explore all aspects of sampling so you can avoid common pitfalls and potential delays in processing your learners’ certificates. \nIn this session\, we’ll cover:\n• The information required prior to the EQA sampling activity\,\n• Timings for submission of a claim\,\n• Activities during and after sampling\,\n• Potential delays in processing claims. \nCatch up with the webinar here! \nYou can download a copy of the handouts for this session below: \nPreparing for EQA sampling  \nPreparing for EQA sampling – supporting handout  \nPreparing for EQA sampling – Centre guidance \nCompleting your Sampling Annual Plan guidance
URL:https://www.gatewayqualifications.org.uk/event/preparing-centres-for-eqa-sampling-2/
LOCATION:Online
CATEGORIES:Webinar
ATTACH;FMTTYPE=image/png:https://www.gatewayqualifications.org.uk/wp-content/uploads/2026/02/Preparing-Centres-for-EQA-Sampling-ondemand.png
END:VEVENT
BEGIN:VEVENT
DTSTART;TZID=Europe/London:20260422T120000
DTEND;TZID=Europe/London:20260422T130000
DTSTAMP:20260423T200727
CREATED:20260317T152102Z
LAST-MODIFIED:20260422T134549Z
UID:41199-1776859200-1776862800@www.gatewayqualifications.org.uk
SUMMARY:Cyber Security Essentials: Practical steps to protect your organisation and support learners
DESCRIPTION:Cyber threats to further education are no longer hypothetical; they are increasing in scale\, sophistication\, and impact. \nJoin this webinar to learn practical tips\, expert insight and real examples to help protect learner data\, prevent cyberattacks and safeguard assessment integrity. \nThis session brings together national law‑enforcement intelligence\, technical expertise\, and sector‑led best practice. The City of London Police\, who operates the UK’s new Report Fraud service (replacing Action Fraud from December 2025)\, will share first‑hand insight into the most prevalent cyber threats currently affecting colleges and training providers\, alongside evidence‑based guidance on how organisations can reduce their exposure to risk. \nYou’ll also hear from Redpalm Technology Services\, who will explain why Cyber Essentials is one of the most effective and achievable routes to improving cyber‑resilience in education\, giving you a practical understanding of recognised security standards and the tangible steps required to strengthen institutional protection. \nThe session will include Nelson and Colne College\, showcasing their journey to achieving CyberFirst Gold status. This will bring cyber resilience to life\, demonstrating what strong practice looks like in an FE setting and the real impact of building cyber awareness across the whole organisation\, including how the Gateway Qualifications Level 1 Award in Cybersecurity Awareness can support staff and learners alike. \nThe webinar will conclude with a live Q&A\, giving you the opportunity to raise challenges specific to your organisation and leave with clear\, achievable actions to strengthen your cyber resilience. \nIf you are responsible for governance\, risk\, data protection\, or organisational leadership\, this session will equip you with the insight and confidence needed to act. \nCatch up with the live session here! \nYou can download the handouts from this session below: \nPowerPoint Presentation \nKey Fraud and Cyber Protect resources – The City of London Police resource
URL:https://www.gatewayqualifications.org.uk/event/cyber-security-essentials-practical-steps-to-protect-your-organisation-and-support-learners/
LOCATION:Online
CATEGORIES:Webinar
ATTACH;FMTTYPE=image/png:https://www.gatewayqualifications.org.uk/wp-content/uploads/2026/03/Cybersecurity-Essentials-ondemand.png
END:VEVENT
BEGIN:VEVENT
DTSTART;TZID=Europe/London:20260430T113000
DTEND;TZID=Europe/London:20260430T123000
DTSTAMP:20260423T200727
CREATED:20260313T145256Z
LAST-MODIFIED:20260313T145256Z
UID:41169-1777548600-1777552200@www.gatewayqualifications.org.uk
SUMMARY:Centre Compliance drop-in surgery
DESCRIPTION:Bring your centre compliance questions to our live drop-in surgery. \nThis informal Q&A session is your chance to speak directly with the Centre Compliance team. Whether you’re seeking clarification on requirements\, concerned about potential issues\, or looking for practical advice to prevent problems before they arise\, we’re here to help. \nIn this session\, you will: \n\nDiscover our supporting materials\nHave your compliance queries or questions addressed by the team\n\nYou can submit questions in advance to the team at Centre.Compliance@gatewayqualifications.org.uk or ask them on the day. \nIf you’re a registered Centre and haven’t received a registration email\, please contact the Centre Compliance team at Centre.Compliance@gatewayqualifications.org.uk  for the registration link.
URL:https://www.gatewayqualifications.org.uk/event/centre-compliance-drop-in-surgery-apr-26/
LOCATION:Online
CATEGORIES:Webinar
ATTACH;FMTTYPE=image/png:https://www.gatewayqualifications.org.uk/wp-content/uploads/2026/03/Centre-Compliance-drop-in-surgery-live-Apr.png
END:VEVENT
BEGIN:VEVENT
DTSTART;TZID=Europe/London:20260529T120000
DTEND;TZID=Europe/London:20260529T130000
DTSTAMP:20260423T200727
CREATED:20260313T145515Z
LAST-MODIFIED:20260313T145515Z
UID:41172-1780056000-1780059600@www.gatewayqualifications.org.uk
SUMMARY:Centre Compliance drop-in surgery
DESCRIPTION:Bring your centre compliance questions to our live drop-in surgery. \nThis informal Q&A session is your chance to speak directly with the Centre Compliance team. Whether you’re seeking clarification on requirements\, concerned about potential issues\, or looking for practical advice to prevent problems before they arise\, we’re here to help. \nIn this session\, you will: \n\nDiscover our supporting materials\nHave your compliance queries or questions addressed by the team\n\nYou can submit questions in advance to the team at Centre.Compliance@gatewayqualifications.org.uk or ask them on the day. \nIf you’re a registered Centre and haven’t received a registration email\, please contact the Centre Compliance team at Centre.Compliance@gatewayqualifications.org.uk  for the registration link.
URL:https://www.gatewayqualifications.org.uk/event/centre-compliance-drop-in-surgery-may-26/
LOCATION:Online
CATEGORIES:Webinar
ATTACH;FMTTYPE=image/png:https://www.gatewayqualifications.org.uk/wp-content/uploads/2026/03/Centre-Compliance-drop-in-surgery-live-May.png
END:VEVENT
BEGIN:VEVENT
DTSTART;TZID=Europe/London:20260622T090000
DTEND;TZID=Europe/London:20260622T170000
DTSTAMP:20260423T200727
CREATED:20260413T121753Z
LAST-MODIFIED:20260413T121753Z
UID:41298-1782118800-1782147600@www.gatewayqualifications.org.uk
SUMMARY:AELP National Conference 2026
DESCRIPTION:Gateway Qualifications is delighted to be the funding and policy zone sponsor at this year’s AELP National Conference 2026. \nIf you’re attending\, be sure to stop by and say hello to us at our stand in the main exhibition hall at the Novotel London West. \nMore details will be shared soon… \nIf you’re unable to attend in person\, be sure to follow us on LinkedIn or Twitter for updates from the conference. \nPlease note: This event is run by AELP. Tickets are available on the conference website. \n\nAbout AELP National Conference 2026\nThe AELP National Conference is the Association of Employment and Learning Providers’ flagship event for the skills\, apprenticeships and employability sector. It brings together policymakers\, providers and sector leaders to explore the impact of ongoing changes to standards\, assessment\, inspection and funding. The conference provides a space to move beyond policy headlines\, supporting open discussion on how change is being interpreted and applied in practice\, while helping organisations gain clarity and confidence in responding to an evolving skills system
URL:https://www.gatewayqualifications.org.uk/event/aelp-national-conference-2026/
LOCATION:Novotel London West\, 1 Shortlands\, Hammersmith\, W6 8DR\, United Kingdom
CATEGORIES:Conference
ATTACH;FMTTYPE=image/png:https://www.gatewayqualifications.org.uk/wp-content/uploads/2026/04/AELP-Website-promotion.png
END:VEVENT
BEGIN:VEVENT
DTSTART;TZID=Europe/London:20260630T120000
DTEND;TZID=Europe/London:20260630T130000
DTSTAMP:20260423T200727
CREATED:20260313T145749Z
LAST-MODIFIED:20260313T145749Z
UID:41174-1782820800-1782824400@www.gatewayqualifications.org.uk
SUMMARY:Centre Compliance drop-in surgery
DESCRIPTION:Bring your centre compliance questions to our live drop-in surgery. \nThis informal Q&A session is your chance to speak directly with the Centre Compliance team. Whether you’re seeking clarification on requirements\, concerned about potential issues\, or looking for practical advice to prevent problems before they arise\, we’re here to help. \nIn this session\, you will: \n\nDiscover our supporting materials\nHave your compliance queries or questions addressed by the team\n\nYou can submit questions in advance to the team at Centre.Compliance@gatewayqualifications.org.uk or ask them on the day. \nIf you’re a registered Centre and haven’t received a registration email\, please contact the Centre Compliance team at Centre.Compliance@gatewayqualifications.org.uk  for the registration link.
URL:https://www.gatewayqualifications.org.uk/event/centre-compliance-drop-in-surgery-jun-26/
LOCATION:Online
CATEGORIES:Webinar
ATTACH;FMTTYPE=image/png:https://www.gatewayqualifications.org.uk/wp-content/uploads/2026/03/Centre-Compliance-drop-in-surgery-live-Jun.png
END:VEVENT
BEGIN:VEVENT
DTSTART;TZID=Europe/London:20260731T153000
DTEND;TZID=Europe/London:20260731T163000
DTSTAMP:20260423T200727
CREATED:20260313T145948Z
LAST-MODIFIED:20260313T145948Z
UID:41176-1785511800-1785515400@www.gatewayqualifications.org.uk
SUMMARY:Centre Compliance drop-in surgery
DESCRIPTION:Bring your centre compliance questions to our live drop-in surgery. \nThis informal Q&A session is your chance to speak directly with the Centre Compliance team. Whether you’re seeking clarification on requirements\, concerned about potential issues\, or looking for practical advice to prevent problems before they arise\, we’re here to help. \nIn this session\, you will: \n\nDiscover our supporting materials\nHave your compliance queries or questions addressed by the team\n\nYou can submit questions in advance to the team at Centre.Compliance@gatewayqualifications.org.uk or ask them on the day. \nIf you’re a registered Centre and haven’t received a registration email\, please contact the Centre Compliance team at Centre.Compliance@gatewayqualifications.org.uk  for the registration link.
URL:https://www.gatewayqualifications.org.uk/event/centre-compliance-drop-in-surgery-jul-26/
LOCATION:Online
CATEGORIES:Webinar
ATTACH;FMTTYPE=image/png:https://www.gatewayqualifications.org.uk/wp-content/uploads/2026/03/Centre-Compliance-drop-in-surgery-live-Jul.png
END:VEVENT
END:VCALENDAR