BEGIN:VCALENDAR
VERSION:2.0
PRODID:-//Gateway Qualifications - ECPv6.2.2//NONSGML v1.0//EN
CALSCALE:GREGORIAN
METHOD:PUBLISH
X-ORIGINAL-URL:https://www.gatewayqualifications.org.uk
X-WR-CALDESC:Events for Gateway Qualifications
REFRESH-INTERVAL;VALUE=DURATION:PT1H
X-Robots-Tag:noindex
X-PUBLISHED-TTL:PT1H
BEGIN:VTIMEZONE
TZID:Europe/London
BEGIN:DAYLIGHT
TZOFFSETFROM:+0000
TZOFFSETTO:+0100
TZNAME:BST
DTSTART:20250330T010000
END:DAYLIGHT
BEGIN:STANDARD
TZOFFSETFROM:+0100
TZOFFSETTO:+0000
TZNAME:GMT
DTSTART:20251026T010000
END:STANDARD
END:VTIMEZONE
BEGIN:VEVENT
DTSTART;TZID=Europe/London:20251113T150000
DTEND;TZID=Europe/London:20251113T160000
DTSTAMP:20260423T212338
CREATED:20251023T103446Z
LAST-MODIFIED:20251114T092351Z
UID:40700-1763046000-1763049600@www.gatewayqualifications.org.uk
SUMMARY:Using regulated qualifications to introduce learners to AI at Level 2
DESCRIPTION:Find out how Barnsley College is using the flexibility of assessment and project-based learning to adapt regulated qualifications to incorporate the use of AI and help learners use various AI tools. \nCatch up with Barnsley College’s application here \nYou can find the supporting handouts for this session below: \nDownload the PowerPoint Presentation here  \nDownload the Digital and IT Skills Progression Pathway
URL:https://www.gatewayqualifications.org.uk/event/using-regulated-qualifications-to-introduce-learners-to-ai-at-level-2/
LOCATION:Online
ATTACH;FMTTYPE=image/png:https://www.gatewayqualifications.org.uk/wp-content/uploads/2025/10/Using-regulated-qualifications-at-L2-ondemand.png
END:VEVENT
END:VCALENDAR