BEGIN:VCALENDAR
VERSION:2.0
PRODID:-//Gateway Qualifications - ECPv6.2.2//NONSGML v1.0//EN
CALSCALE:GREGORIAN
METHOD:PUBLISH
X-WR-CALNAME:Gateway Qualifications Events Calendar
X-ORIGINAL-URL:https://www.gatewayqualifications.org.uk
X-WR-CALDESC:Events for Gateway Qualifications
REFRESH-INTERVAL;VALUE=DURATION:PT1H
X-Robots-Tag:noindex
X-PUBLISHED-TTL:PT1H
BEGIN:VTIMEZONE
TZID:Europe/London
BEGIN:DAYLIGHT
TZOFFSETFROM:+0000
TZOFFSETTO:+0100
TZNAME:BST
DTSTART:20250330T010000
END:DAYLIGHT
BEGIN:STANDARD
TZOFFSETFROM:+0100
TZOFFSETTO:+0000
TZNAME:GMT
DTSTART:20251026T010000
END:STANDARD
END:VTIMEZONE
BEGIN:VEVENT
DTSTART;TZID=Europe/London:20251001T113000
DTEND;TZID=Europe/London:20251001T123000
DTSTAMP:20260420T112754
CREATED:20250828T142643Z
LAST-MODIFIED:20251001T151210Z
UID:40441-1759318200-1759321800@www.gatewayqualifications.org.uk
SUMMARY:Ask the Subject Experts: Living and Working in the UK
DESCRIPTION:Are you delivering our Living and Working in the UK suite of qualifications? \nCatch up with the Q&A session with Principal EQA and Product as they provide key guidance on assessment\, delivery\, marking\, internal quality assurance (IQA)\, and guidance for our Living and Working suite of qualifications. \nIn this session\, you will:\n✅ Gain expert guidance on assessment and delivery\,\n✅ Understand standards and expectations\,\n✅ Explore support with internal quality assurance (IQA) processes. \nCatch up with the Q&A here! \nDownload the supporting PowerPoint slide deck here
URL:https://www.gatewayqualifications.org.uk/event/ask-the-subject-experts-living-and-working-in-the-uk/
LOCATION:Online
CATEGORIES:Webinar
ATTACH;FMTTYPE=image/png:https://www.gatewayqualifications.org.uk/wp-content/uploads/2025/08/ASE-LWIUK-ondemand.png
END:VEVENT
BEGIN:VEVENT
DTSTART;TZID=Europe/London:20251007T113000
DTEND;TZID=Europe/London:20251007T123000
DTSTAMP:20260420T112754
CREATED:20250908T110603Z
LAST-MODIFIED:20251007T131606Z
UID:40482-1759836600-1759840200@www.gatewayqualifications.org.uk
SUMMARY:Starting the year well: preparing for admin excellence
DESCRIPTION:In this session\, we’ll cover everything from making unit selections and checking rules of combination to introducing new learner management functions. Our Customer Excellence Team will guide you through utilising useful reports and signposting to valuable resources\, all while providing valuable hints and tips. \nThis in-depth session will empower admin staff to start the year with confidence. You’ll learn how to complete registrations\, check the rules of combination\, and make the most of My Quartz’s new features. Don’t miss this opportunity to enhance your administrative skills and fully utilise MyQuartz capabilities. \nCatch up with the full session here! \nYou can also download the following supporting handouts: \nPowerPoint Presentation Slide deck \nUseful hints and links
URL:https://www.gatewayqualifications.org.uk/event/starting-the-year-well-preparing-for-admin-excellence/
LOCATION:Online
CATEGORIES:Webinar
ATTACH;FMTTYPE=image/png:https://www.gatewayqualifications.org.uk/wp-content/uploads/2025/10/STYW-preparing-for-admin-excellence-ondemand.png
END:VEVENT
BEGIN:VEVENT
DTSTART;TZID=Europe/London:20251007T160000
DTEND;TZID=Europe/London:20251007T170000
DTSTAMP:20260420T112754
CREATED:20250828T143436Z
LAST-MODIFIED:20251013T154707Z
UID:40443-1759852800-1759856400@www.gatewayqualifications.org.uk
SUMMARY:Ask the Subject Experts: Digital Qualifications
DESCRIPTION:Are you delivering our Digital qualifications? \nWatch back to this informative session\, as the Principal EQA for Vocational Studies answers your questions about assessment\, delivery\,  IQA\, and invigilation. \nIn this session\, you will:\n✅ Gain expert guidance on assessment and delivery\,\n✅ Understand standards and expectations\,\n✅ Explore support with internal quality assurance (IQA) processes. \nCatch up with the Q&A here! \nDownload the supporting PowerPoint slide deck here
URL:https://www.gatewayqualifications.org.uk/event/ask-the-subject-experts-digital-qualifications/
LOCATION:Online
CATEGORIES:Webinar
ATTACH;FMTTYPE=image/png:https://www.gatewayqualifications.org.uk/wp-content/uploads/2025/08/ASE-Digital-ondemand.png
END:VEVENT
BEGIN:VEVENT
DTSTART;TZID=Europe/London:20251013T150000
DTEND;TZID=Europe/London:20251013T160000
DTSTAMP:20260420T112754
CREATED:20250828T144019Z
LAST-MODIFIED:20251013T155554Z
UID:40446-1760367600-1760371200@www.gatewayqualifications.org.uk
SUMMARY:Ask the Subject Experts: Childcare\, Health and Social Care Qualifications
DESCRIPTION:Are you delivering our Childcare\, Health and Social Care qualifications? \nWatch back to this informative session\, as the Principal EQA and Product Lead answers your questions about assessment\, delivery\,  IQA\, and invigilation. \nIn this session\, you will:\n✅ Gain expert guidance on assessment and delivery\,\n✅ Understand standards and expectations\,\n✅ Explore support with internal quality assurance (IQA) processes. \nCatch up with the Q&A here! \nDownload the supporting PowerPoint slide deck here
URL:https://www.gatewayqualifications.org.uk/event/ask-the-subject-experts-childcare-health-and-social-care-qualifications/
LOCATION:Online
CATEGORIES:Webinar
ATTACH;FMTTYPE=image/png:https://www.gatewayqualifications.org.uk/wp-content/uploads/2025/08/ASE-Child-health-ondemand.png
END:VEVENT
BEGIN:VEVENT
DTSTART;TZID=Europe/London:20251014T143000
DTEND;TZID=Europe/London:20251014T153000
DTSTAMP:20260420T112754
CREATED:20250828T144342Z
LAST-MODIFIED:20251017T100327Z
UID:40448-1760452200-1760455800@www.gatewayqualifications.org.uk
SUMMARY:Ask the Subject Experts: Hospitality and Leisure Qualifications
DESCRIPTION:Are you delivering our Hospitality and Leisure qualifications? \nCatch up with the Q&A session with Principal EQA and Product as they provide key guidance on assessment\, delivery\, marking\, internal quality assurance (IQA)\, and guidance for our Hospitality and Leisure qualifications. \nIn this session\, you will:\n✅ Gain expert guidance on assessment and delivery\,\n✅ Understand standards and expectations\,\n✅ Explore support with internal quality assurance (IQA) processes\,\n✅ Participate in a live Q&A with our subject specialists. \nThis is your opportunity to ask questions\, share challenges\, and gain practical insights to strengthen your Hospitality and Leisure delivery. \nCatch up with the Q&A here! \nDownload the supporting PowerPoint Slide deck here
URL:https://www.gatewayqualifications.org.uk/event/ask-the-subject-experts-hospitality-and-leisure-qualifications/
LOCATION:Online
CATEGORIES:Webinar
ATTACH;FMTTYPE=image/png:https://www.gatewayqualifications.org.uk/wp-content/uploads/2025/08/ASE-Hospitality-ondemand.png
END:VEVENT
BEGIN:VEVENT
DTSTART;TZID=Europe/London:20251016T150000
DTEND;TZID=Europe/London:20251016T160000
DTSTAMP:20260420T112754
CREATED:20250910T103309Z
LAST-MODIFIED:20251021T131302Z
UID:40498-1760626800-1760630400@www.gatewayqualifications.org.uk
SUMMARY:Centre Monitoring – Best practices and preparations
DESCRIPTION:Catch up with the Quality Team and a Lead EQA\, where they’ll guide you through every aspect of Centre monitoring. This session is designed to help you stay fully compliant with your Centre agreement so you can focus on delivering our qualifications with confidence. \nIn this session\, we’ll cover: \n\nKey information you’ll need before the monitoring activity\nImportant submission timelines\nWhat to expect from EQA activities during and after the process.\n\nWhether you’re new to Centre monitoring or looking for a refresher\, this session will ensure you’re well-prepared and supported every step of the way. \n\n\n	\n		\n			\n			\n			\n		\n		\n	\n	\n	\n	\n	\n\n  \nYou can download the handouts from the webinar below: \nPowerPoint Presentation Slide deck  \nCentre Monitoring Checklist  \nPreparing for Centre Monitoring guidance  \nWatch how to complete Centre Monitoring Form  \n  \n 
URL:https://www.gatewayqualifications.org.uk/event/centre-monitoring-best-practices-and-preparations/
LOCATION:Online
CATEGORIES:Webinar
ATTACH;FMTTYPE=image/png:https://www.gatewayqualifications.org.uk/wp-content/uploads/2025/10/Centre-Monitoring-ondemand.png
END:VEVENT
END:VCALENDAR